BEGIN:VCALENDAR
VERSION:2.0
PRODID:DPCALENDAR
CALSCALE:GREGORIAN
BEGIN:VTIMEZONE
TZID:UTC
X-MICROSOFT-CDO-TZID:0
END:VTIMEZONE
X-WR-TIMEZONE:UTC
BEGIN:VEVENT
DTSTART;TZID=UTC:20260509T080000
DTEND;TZID=UTC:20260509T090000
UID:5994120B-EE1E-4D1E-B166-7C0976FE4921
SUMMARY:PAA Erste Hilfe
DTSTAMP:20251203T100225Z
DESCRIPTION:
X-ALT-DESC;FMTTYPE=text/html:
X-ACCESS:1
X-HITS:29
X-URL:
X-COLOR:3366CC
END:VEVENT
END:VCALENDAR