BEGIN:VCALENDAR
VERSION:2.0
PRODID:DPCALENDAR
CALSCALE:GREGORIAN
BEGIN:VTIMEZONE
TZID:UTC
X-MICROSOFT-CDO-TZID:0
END:VTIMEZONE
X-WR-TIMEZONE:UTC
BEGIN:VEVENT
DTSTART;TZID=UTC:20260501T100000
DTEND;TZID=UTC:20260503T180000
UID:0E75A72A-6125-44F9-86CD-E5CBA9174AE4
SUMMARY:PAA sachkunde
DTSTAMP:20251102T174204Z
DESCRIPTION:
X-ALT-DESC;FMTTYPE=text/html:
LAST-MODIFIED:20251102T174804Z
X-ACCESS:1
X-HITS:41
X-URL:
X-COLOR:3366CC
END:VEVENT
END:VCALENDAR